BEGIN:VCALENDAR
VERSION:2.0
PRODID:-//Social Care Future - ECPv6.15.14//NONSGML v1.0//EN
CALSCALE:GREGORIAN
METHOD:PUBLISH
X-ORIGINAL-URL:https://socialcarefuture.org.uk
X-WR-CALDESC:Events for Social Care Future
REFRESH-INTERVAL;VALUE=DURATION:PT1H
X-Robots-Tag:noindex
X-PUBLISHED-TTL:PT1H
BEGIN:VTIMEZONE
TZID:UTC
BEGIN:STANDARD
TZOFFSETFROM:+0000
TZOFFSETTO:+0000
TZNAME:UTC
DTSTART:20230101T000000
END:STANDARD
END:VTIMEZONE
BEGIN:VEVENT
DTSTART;TZID=UTC:20240418T100000
DTEND;TZID=UTC:20240418T120000
DTSTAMP:20260419T123413
CREATED:20231017T100003Z
LAST-MODIFIED:20231017T100003Z
UID:1247-1713434400-1713441600@socialcarefuture.org.uk
SUMMARY:Community Activity – Embedding the vision into strategy
DESCRIPTION:Going deeper session about embedding the vision into strategy\, these sessions are bi-monthly \nJoin Zoom Meeting\nhttps://us06web.zoom.us/j/87993163496?pwd=aHZydk9rdUp1UzVtQzl0cjh1Vk9jUT09 \nMeeting ID: 879 9316 3496\nPasscode: 4950\nOne tap mobile\n+441314601196\,\,87993163496#\,\,\,\,*4950# United Kingdom\n+442034815237\,\,87993163496#\,\,\,\,*4950# United Kingdom
URL:https://socialcarefuture.org.uk/event/community-activity-embedding-the-vision-into-strategy/
LOCATION:On Zoom
CATEGORIES:Embedding vision
END:VEVENT
END:VCALENDAR